BEGIN:VCALENDAR
VERSION:2.0
PRODID:-//ChamberMaster//Event Calendar 2.0//EN
METHOD:PUBLISH
X-PUBLISHED-TTL:P3D
REFRESH-INTERVAL:P3D
CALSCALE:GREGORIAN
BEGIN:VEVENT
DTSTART:20210502T150000Z
DTEND:20210502T210000Z
X-MICROSOFT-CDO-ALLDAYEVENT:FALSE
SUMMARY:Outside vendor/craft show
DESCRIPTION:Come check out the new family fun center.\n\nVendors will be outside with a variety of handmade and direct sales items as well.\n\nLocated right across the street from the Rootbeer Stand!!
X-ALT-DESC;FMTTYPE=text/html:Come check out the new family fun center.<br />\nVendors will be outside with a variety of handmade and direct sales items as well.<br />\nLocated right across the street from the Rootbeer Stand!!
LOCATION:Keepin' It PG\, LLC 210 N. Columbia Ave Oglesby\, IL 61348
UID:e.693.13278
SEQUENCE:3
DTSTAMP:20260424T220324Z
URL:https://www.ivaced.org/events/details/outside-vendor-craft-show-13278
END:VEVENT

END:VCALENDAR
