BEGIN:VCALENDAR
VERSION:2.0
PRODID:-//ChamberMaster//Event Calendar 2.0//EN
METHOD:PUBLISH
X-PUBLISHED-TTL:P3D
REFRESH-INTERVAL:P3D
CALSCALE:GREGORIAN
BEGIN:VEVENT
DTSTART:20260426T000000Z
DTEND:20260426T020000Z
X-MICROSOFT-CDO-ALLDAYEVENT:FALSE
SUMMARY:Intimate Songs\, featuring the Trio Cantabile
DESCRIPTION:This ensemble\, featuring "vocal powerhouse" singing of Ola Rafalo (mezzo-soprano)\, the expressive artistry of Jerome Kava (violin/viola)\, and the refined musicianship of Massimo Scapin (piano)\, blends intimacy\, lyricism\, and instrumental brilliance. The program will include chamber arias by Brahms and others\, as well as selected pieces for violin and piano. For this concert\, we are partnering with the Illinois Valley Symphony Orchestra to offer a 25% discount combo ticket for both Intimate Songs and the IVSO's May 2 performance of Dvor k's "One Summer in Spillville" on May 2\, at 7 pm\, at Illinois Valley Community College. Those purchasing the combo ticket will receive their IVSO ticket via email no later than Wednesday\, April 29.
X-ALT-DESC;FMTTYPE=text/html:This ensemble\, featuring &ldquo\;vocal powerhouse&rdquo\; singing of Ola Rafalo (mezzo-soprano)\, the expressive artistry of Jerome Kava (violin/viola)\, and the refined musicianship of Massimo Scapin (piano)\, blends intimacy\, lyricism\, and instrumental brilliance. The program will include chamber arias by Brahms and others\, as well as selected pieces for violin and piano. For this concert\, we are partnering with the Illinois Valley Symphony Orchestra to offer a 25% discount combo ticket for both Intimate Songs and the IVSO&#39\;s May 2 performance of Dvor&aacute\;k&#39\;s &quot\;One Summer in Spillville&quot\; on May 2\, at 7 pm\, at Illinois Valley Community College. Those purchasing the combo ticket will receive their IVSO ticket via email no later than Wednesday\, April 29.
LOCATION:Grace Theater 316 S Main St Princeton IL 61356
UID:e.693.15246
SEQUENCE:3
DTSTAMP:20260422T141046Z
URL:https://www.ivaced.org/events/details/intimate-songs-featuring-the-trio-cantabile-15246
END:VEVENT

END:VCALENDAR
