BEGIN:VCALENDAR
VERSION:2.0
PRODID:-//ChamberMaster//Event Calendar 2.0//EN
METHOD:PUBLISH
X-PUBLISHED-TTL:P3D
REFRESH-INTERVAL:P3D
CALSCALE:GREGORIAN
BEGIN:VEVENT
DTSTART;VALUE=DATE:20191213
DTEND;VALUE=DATE:20191214
TRANSP:TRANSPARENT
X-MICROSOFT-CDO-ALLDAYEVENT:TRUE
SUMMARY:Elf on a Shelf
DESCRIPTION:Our Elf will be hidden at different times within the store! Be the first to find it after its hidden and receive $12 in free slot play- see our calender for the times of day that it will be hidden.
X-ALT-DESC;FMTTYPE=text/html:Our Elf will be hidden at different times within the store! Be the first to find it after its hidden and receive $12 in free slot play- see our calender for the times of day that it will be hidden.
LOCATION:3940 Route 251 Suite B 251-located in Peru Mall by the Marshalls Entrance
UID:e.693.10396
SEQUENCE:3
DTSTAMP:20260423T131545Z
URL:https://www.ivaced.org/events/details/elf-on-a-shelf-12-13-2019-10396
END:VEVENT

END:VCALENDAR
