BEGIN:VCALENDAR
VERSION:2.0
PRODID:-//ChamberMaster//Event Calendar 2.0//EN
METHOD:PUBLISH
X-PUBLISHED-TTL:P3D
REFRESH-INTERVAL:P3D
CALSCALE:GREGORIAN
BEGIN:VEVENT
DTSTART:20211130T173000Z
DTEND:20211130T183000Z
X-MICROSOFT-CDO-ALLDAYEVENT:FALSE
SUMMARY:Board of Director Meeting
DESCRIPTION:Board of Director Meeting scheduled for 11:30 a.m. at the IVAC office.
X-ALT-DESC;FMTTYPE=text/html:Board of Director Meeting scheduled for 11:30 a.m. at the IVAC office.
LOCATION:IVAC Office 1320 Peoria Street Peru\, Illinois 61354
UID:e.693.8648
SEQUENCE:3
DTSTAMP:20260420T105933Z
URL:https://www.ivaced.org/events/details/board-of-director-meeting-11-30-2021-8648
END:VEVENT

END:VCALENDAR
